BEGIN:VCALENDAR
VERSION:2.0
PRODID:-//ChamberMaster//Event Calendar 2.0//EN
METHOD:PUBLISH
X-PUBLISHED-TTL:P3D
REFRESH-INTERVAL:P3D
CALSCALE:GREGORIAN
BEGIN:VEVENT
DTSTART:20260427T193000Z
DTEND:20260427T203000Z
X-MICROSOFT-CDO-ALLDAYEVENT:FALSE
SUMMARY:Tinker Lab
DESCRIPTION:Join us for Tinker Lab!\n\nWe'll use problem-solving skills to imagine\, explore\, tinker\, build\, code\, play\, and design!\n\nStop motion\, green screen filming\, music\, and mindful art will be just a few of the areas we explore. No prior experience needed!\n\nApril - Ever composed your own music that paints a picture? We'll explore the Chrome Music Lab to create new music and art pieces.
X-ALT-DESC;FMTTYPE=text/html:<p><span style="font-size:14px"><span style="font-family:arial\,helvetica\,sans-serif">Join us for Tinker Lab!</span></span></p>\n\n<p><span style="font-size:14px"><span style="font-family:arial\,helvetica\,sans-serif">We&#39\;ll use problem-solving skills to imagine\, explore\, tinker\, build\, code\, play\, and design!</span></span></p>\n\n<p><span style="font-size:14px"><span style="font-family:arial\,helvetica\,sans-serif">Stop motion\, green screen filming\, music\, and mindful art will be just a few of the areas we explore. No prior experience needed!</span></span></p>\n\n<p><span style="font-size:14px"><span style="font-family:arial\,helvetica\,sans-serif"><span style="background-color:rgb(255\, 255\, 255)">April - Ever composed your own music that paints a picture? We&#39\;ll explore the Chrome Music Lab to create new music and art pieces.</span></span></span></p>\n
LOCATION:Acton Public Library 60 Old Boston Post Road Old Saybrook\, CT 06475
UID:e.1551.30445
SEQUENCE:3
DTSTAMP:20260422T025309Z
URL:https://business.goschamber.com/events/details/tinker-lab-04-27-2026-30445
END:VEVENT

END:VCALENDAR
