BEGIN:VCALENDAR
VERSION:2.0
PRODID:-//ChamberMaster//Event Calendar 2.0//EN
METHOD:PUBLISH
X-PUBLISHED-TTL:P3D
REFRESH-INTERVAL:P3D
CALSCALE:GREGORIAN
BEGIN:VEVENT
DTSTART:20260404T143000Z
DTEND:20260404T153000Z
X-MICROSOFT-CDO-ALLDAYEVENT:FALSE
SUMMARY:Tie Dye Drawstring Bags
DESCRIPTION:Far out! Color your own groovy tie-dyed drawstring bag. All you have to do is bring your creativity. \n\nSupplies will be provided. This might get messy\, so please wear clothes you don't mind getting dirty.
X-ALT-DESC;FMTTYPE=text/html:<p>Far out! Color your own groovy tie-dyed drawstring bag. All you have to do is bring your creativity.&nbsp\;</p>\n\n<p>Supplies will be provided. This might get messy\, so please wear clothes you don&#39\;t mind getting dirty.&nbsp\;</p>\n
LOCATION:Acton Public Library 60 Old Boston Post Road Old Saybrook\, CT 06475
UID:e.1551.30909
SEQUENCE:3
DTSTAMP:20260422T025310Z
URL:https://business.goschamber.com/events/details/tie-dye-drawstring-bags-30909
END:VEVENT

END:VCALENDAR
