BEGIN:VCALENDAR
VERSION:2.0
PRODID:-//ChamberMaster//Event Calendar 2.0//EN
METHOD:PUBLISH
X-PUBLISHED-TTL:P3D
REFRESH-INTERVAL:P3D
CALSCALE:GREGORIAN
BEGIN:VEVENT
DTSTART:20260408T220000Z
DTEND:20260408T233000Z
X-MICROSOFT-CDO-ALLDAYEVENT:FALSE
SUMMARY:The Modern Material Palette
DESCRIPTION:Attention Designers\, Architects\, Builders\, Contractors\, and Electricians!! RSVP @ 860.388.0810 for a fun\, relaxed evening of networking and inspiration for your upcoming projects! April 8th 6:00-7:30 pm at Master Tile Kitchen and Bath Design - 1522 Boston Post Rd Old Saybrook
X-ALT-DESC;FMTTYPE=text/html:<span style="background-color:rgb(37\, 39\, 40)\; color:rgb(226\, 229\, 233)\; font-family:segoe ui historic\,segoe ui\,helvetica\,arial\,sans-serif\; font-size:15px">Attention Designers\, Architects\, Builders\, Contractors\, and Electricians!! RSVP @ 860.388.0810 for a fun\, relaxed evening of networking and inspiration for your upcoming projects! April 8th 6:00-7:30 pm at Master Tile Kitchen and Bath Design - 1522 Boston Post Rd Old Saybrook</span>
LOCATION:Master Tile Kitchen and Bath Design - 1522 Boston Post Rd - Old Saybrook\, CT 06475
UID:e.1551.29911
SEQUENCE:3
DTSTAMP:20260422T025401Z
URL:https://business.goschamber.com/events/details/the-modern-material-palette-29911
END:VEVENT

END:VCALENDAR
