BEGIN:VCALENDAR
VERSION:2.0
PRODID:-//ChamberMaster//Event Calendar 2.0//EN
METHOD:PUBLISH
X-PUBLISHED-TTL:P3D
REFRESH-INTERVAL:P3D
CALSCALE:GREGORIAN
BEGIN:VEVENT
DTSTART:20260428T143000Z
DTEND:20260428T153000Z
X-MICROSOFT-CDO-ALLDAYEVENT:FALSE
SUMMARY:Storytime
DESCRIPTION:Story time for all! Children and caregivers are welcome to join us for stories\, fingerplays\, bounces\, and so much more. Enjoy free play after the stories and songs!
X-ALT-DESC;FMTTYPE=text/html:<p>Story time for all! Children and caregivers are welcome to join us for stories\, fingerplays\, bounces\, and so much more. Enjoy free play after the stories and songs!</p>\n
LOCATION:Acton Public Library 60 Old Boston Post Road Old Saybrook\, CT 06475
UID:e.1551.30440
SEQUENCE:3
DTSTAMP:20260422T025353Z
URL:https://business.goschamber.com/events/details/storytime-04-28-2026-30440
END:VEVENT

END:VCALENDAR
