BEGIN:VCALENDAR
VERSION:2.0
PRODID:-//ChamberMaster//Event Calendar 2.0//EN
METHOD:PUBLISH
X-PUBLISHED-TTL:P3D
REFRESH-INTERVAL:P3D
CALSCALE:GREGORIAN
BEGIN:VEVENT
DTSTART:20260424T140000Z
DTEND:20260425T200000Z
X-MICROSOFT-CDO-ALLDAYEVENT:FALSE
SUMMARY:Picture Perfect & Purposeful Women's Entrepreneur Retreat
DESCRIPTION:The Picture Perfect & Purposeful Entrepreneur Retreat is a two-day\, women-only experience for established business owners who want to reconnect with their purpose\, refine their brand presence\, and move forward with clarity and confidence.\n\nThis intimate retreat brings together expert-led sessions focused on branding\, mindset\, values-driven business growth\, and professional imagery\, all designed to support both personal and professional alignment.\n\nAttendees will experience:\n\n  A branding and marketing workshops led by Kristyn Neal\, Founder of Dream In Color Marketing\n\n  A guided hypnosis and mindset session with Rachel Strabley\, from Hypnosis With Rachel\, focused on clarity\, confidence\, and subconscious alignment\n\n  A values-based business perspective session with Sharon Lewis\, from AdviCoach\, supporting intentional decision-making and sustainable growth\n\n  Professional headshots and branding photography with Nicole of Nicole O'Connor Photography providing polished\, authentic photographs and complimentary hair and makeup\n\n  Curated networking with like-minded women entrepreneurs\n\nThis retreat is ideal for women business owners ready to reset\, elevate how they show up professionally\, and step into their next chapter with intention. Space is limited to maintain a high-touch experience.\n\nFor details and registration:\n\nwww.dreamincolormarketing.com/picture-perfect-purposeful-entrepreneur-women-only
X-ALT-DESC;FMTTYPE=text/html:<p>The Picture Perfect &amp\; Purposeful Entrepreneur Retreat is a two-day\, women-only experience for established business owners who want to reconnect with their purpose\, refine their brand presence\, and move forward with clarity and confidence.</p>\n\n<p>This intimate retreat brings together expert-led sessions focused on branding\, mindset\, values-driven business growth\, and professional imagery\, all designed to support both personal and professional alignment.</p>\n\n<p>Attendees will experience:<br />\n&bull\; A branding and marketing workshops led by <strong>Kristyn Neal</strong>\, Founder of Dream In Color Marketing<br />\n&bull\; A guided hypnosis and mindset session with <strong>Rachel Strabley</strong>\, from Hypnosis With Rachel\, focused on clarity\, confidence\, and subconscious alignment<br />\n&bull\; A values-based business perspective session with <strong>Sharon Lewis\, from AdviCoach</strong>\, supporting intentional decision-making and sustainable growth<br />\n&bull\; Professional headshots and branding photography with <strong>Nicole of Nicole O&#39\;Connor Photography&nbsp\;</strong>providing polished\, authentic photographs and <strong>complimentary hair and makeup</strong><br />\n&bull\;&nbsp\;Curated networking with like-minded women entrepreneurs</p>\n\n<p>This retreat is ideal for women business owners ready to reset\, elevate how they show up professionally\, and step into their next chapter with intention. Space is limited to maintain a high-touch experience.</p>\n\n<p>For details and registration:<br />\n<a class="decorated-link" href="http://www.dreamincolormarketing.com/picture-perfect-purposeful-entrepreneur-women-only" rel="noopener" target="_new">www.dreamincolormarketing.com/picture-perfect-purposeful-entrepreneur-women-only</a></p>\n
LOCATION:New London\, CT
UID:e.1551.30454
SEQUENCE:3
DTSTAMP:20260422T013734Z
URL:https://business.goschamber.com/events/details/picture-perfect-purposeful-women-s-entrepreneur-retreat-30454
END:VEVENT

END:VCALENDAR
