BEGIN:VCALENDAR
VERSION:2.0
PRODID:-//ChamberMaster//Event Calendar 2.0//EN
METHOD:PUBLISH
X-PUBLISHED-TTL:P3D
REFRESH-INTERVAL:P3D
CALSCALE:GREGORIAN
BEGIN:VEVENT
DTSTART:20230517T120000Z
DTEND:20230517T130000Z
X-MICROSOFT-CDO-ALLDAYEVENT:FALSE
SUMMARY:Governance Committee Meeting 5/17/23
DESCRIPTION:The Governance Committee guides the Board of Directors to execute and fulfill its responsibilities. It ensures that the Board is equipped with proper guidelines and structure to do its work properly.\n\n\n\nChairperson: Brett Elliot\, Executive Director at The Kate\n\n\n\nMeetings held every 3rd Wednesday of the month.
X-ALT-DESC;FMTTYPE=text/html:<div style="text-align: center\;">The Governance Committee guides the Board of Directors to execute and fulfill its responsibilities. It ensures that the Board is equipped with proper guidelines and structure to do its work properly.<br />\n<br />\nChairperson: <strong>Brett Elliot</strong>\, <em>Executive Director at The Kate</em><br />\n<br />\nMeetings held every 3rd Wednesday of the month.</div>\n
LOCATION:Old Saybrook Chamber of Commerce One Main Street Old Saybrook\, CT
UID:e.1551.17318
SEQUENCE:3
DTSTAMP:20260422T050631Z
URL:https://business.goschamber.com/events/details/governance-committee-meeting-5-17-23-17318
END:VEVENT

END:VCALENDAR
