BEGIN:VCALENDAR
VERSION:2.0
PRODID:-//ChamberMaster//Event Calendar 2.0//EN
METHOD:PUBLISH
X-PUBLISHED-TTL:P3D
REFRESH-INTERVAL:P3D
CALSCALE:GREGORIAN
BEGIN:VEVENT
DTSTART;VALUE=DATE:20260304
DTEND;VALUE=DATE:20260402
TRANSP:TRANSPARENT
X-MICROSOFT-CDO-ALLDAYEVENT:TRUE
SUMMARY:Gardeners' Market Preorder Sale
DESCRIPTION:Hanging baskets\, perennials\, annuals\, vegetable plants and herbs are all available to order now through April 1.  Plants will be ready for pick up May 16 at the Old Saybrook Gardeners' Market located on the Town Green. \n\n https://old-saybrook-garden-club.myshopify.com/\n\nProceeds help the club fund our efforts to beautify Old Saybrook\, which include the Main Street Median Gardens\, the Constitutional Garden in front of Saybrook Home\, the Blue Star Memorial and our annual scholarship.
X-ALT-DESC;FMTTYPE=text/html:<span style="color:rgb(68\, 68\, 68)\; font-family:fira sans\,sans-serif\; font-size:16px">Hanging baskets\, perennials\, annuals\, vegetable plants and herbs are all available to order&nbsp\;</span><span style="color:rgb(68\, 68\, 68)\; font-family:fira sans\,sans-serif\; font-size:16px">now through April 1. &nbsp\;</span><span style="color:rgb(68\, 68\, 68)\; font-family:fira sans\,sans-serif\; font-size:16px">Plants will be ready for pick up&nbsp\;</span><span style="color:rgb(68\, 68\, 68)\; font-family:fira sans\,sans-serif\; font-size:16px">May 16</span><span style="color:rgb(68\, 68\, 68)\; font-family:fira sans\,sans-serif\; font-size:16px">&nbsp\;at the Old Saybrook Gardeners&#39\; Market located on the Town Green.&nbsp\;</span><br />\n<span style="color:rgb(68\, 68\, 68)\; font-family:fira sans\,sans-serif\; font-size:16px">&nbsp\;</span>https://old-saybrook-garden-club.myshopify.com/<br />\n<em>Proceeds help the club fund our efforts to beautify Old Saybrook\, which include the Main Street Median Gardens\, the Constitutional Garden in front of Saybrook Home\, the Blue Star Memorial and our annual scholarship.&nbsp\;</em>
LOCATION:
UID:e.1551.25016
SEQUENCE:3
DTSTAMP:20260420T053754Z
URL:https://business.goschamber.com/events/details/gardeners-market-preorder-sale-25016
END:VEVENT

END:VCALENDAR
