BEGIN:VCALENDAR
VERSION:2.0
PRODID:-//ChamberMaster//Event Calendar 2.0//EN
METHOD:PUBLISH
X-PUBLISHED-TTL:P3D
REFRESH-INTERVAL:P3D
CALSCALE:GREGORIAN
BEGIN:VEVENT
DTSTART:20260418T143000Z
DTEND:20260418T163000Z
X-MICROSOFT-CDO-ALLDAYEVENT:FALSE
SUMMARY:Earth Day with OS Garden Club
DESCRIPTION:The Old Saybrook Garden Club is hosting an Earth Day Celebration at the Acton Library on Saturday April 18th from 10:30 am to 12:30 pm. Families with elementary school age children are welcome to join us .\n\nActivities will include :\n\n\n	Face Painting\n	Build a Birdhouse \n	Nature Scavenger Hunt\n	Games\n	And so much more.\n\n\nSponsored by the Old Saybrook Garden Club.
X-ALT-DESC;FMTTYPE=text/html:<p>The&nbsp\;<a href="https://old-saybrook-garden-club.myshopify.com/" style="margin: 0px\; padding: 0px\; box-sizing: border-box\; text-decoration-line: none\; clear: both\; color: rgb(160\, 60\, 34) !important\;">Old Saybrook Garden Club&nbsp\;</a>is hosting an Earth Day Celebration at the Acton Library on Saturday April 18th from 10:30 am to 12:30 pm. Families with elementary school age children are welcome to join us .</p>\n\n<p>Activities will include :</p>\n\n<ul>\n	<li>Face Painting</li>\n	<li>Build a Birdhouse&nbsp\;</li>\n	<li>Nature Scavenger Hunt</li>\n	<li>Games</li>\n	<li>And so much more.</li>\n</ul>\n\n<p>Sponsored by the Old Saybrook Garden Club.</p>\n
LOCATION:Acton Public Library 60 Old Boston Post Road Old Saybrook\, CT 06475
UID:e.1551.30910
SEQUENCE:3
DTSTAMP:20260422T025915Z
URL:https://business.goschamber.com/events/details/earth-day-with-os-garden-club-30910
END:VEVENT

END:VCALENDAR
