BEGIN:VCALENDAR
VERSION:2.0
PRODID:-//ChamberMaster//Event Calendar 2.0//EN
METHOD:PUBLISH
X-PUBLISHED-TTL:P3D
REFRESH-INTERVAL:P3D
CALSCALE:GREGORIAN
BEGIN:VEVENT
DTSTART:20250619T213000Z
DTEND:20250619T230000Z
X-MICROSOFT-CDO-ALLDAYEVENT:FALSE
SUMMARY:Chamber Connections at The Kate
DESCRIPTION:Join us for a summer evening of casual networking at The Kate! Enjoy their newest museum exhibit\, meet the incredible staff\, and learn about all of the shows and events they have to offer! Sip\, snack and catch up on business with new and seasoned members alike!
X-ALT-DESC;FMTTYPE=text/html:Join us for a summer evening of casual networking at The Kate! Enjoy their newest museum exhibit\, meet the incredible staff\, and learn about all of the shows and events they have to offer! Sip\, snack and catch up on business with new and seasoned members alike!
LOCATION:The Kate 300 Main Street\, Old Saybrook
UID:e.1551.25017
SEQUENCE:3
DTSTAMP:20260422T101246Z
URL:https://business.goschamber.com/events/details/chamber-connections-at-the-kate-25017
END:VEVENT

END:VCALENDAR
