BEGIN:VCALENDAR
VERSION:2.0
PRODID:-//ChamberMaster//Event Calendar 2.0//EN
METHOD:PUBLISH
X-PUBLISHED-TTL:P3D
REFRESH-INTERVAL:P3D
CALSCALE:GREGORIAN
BEGIN:VEVENT
DTSTART:20230927T120000Z
DTEND:20230927T130000Z
X-MICROSOFT-CDO-ALLDAYEVENT:FALSE
SUMMARY:Board of Directors Meeting 9/27/23
DESCRIPTION:Officers\n\nPresident: Dave Carswell\, Guilford Savings Bank\n\n1st Vice President: Kevin Kennedy\, Kennedy Real Estate Solutions\n\n2nd Vice President:  Tony Marino\, The Rockfall Foundation\n\nSecretary\, Kara Pachniuk\, Nourish + Nosh Nutrition\n\nTreasurer\, Dan King\, Lahan and King\n\nPast President: Bob Bradley\, Wm. Raveis Mortgage\n\nDirectors \n\nChris Bird\, Saybrook Point Resort & Marina\n\nBrett Elliott\, Katharine Hepburn Cultural Arts Center   \n\nCJ Jack\, Shoreline Chrysler Dodge Jeep Ram & Shoreline Hyundai\n\nChantal Lawrence\, Total Design Source\n\nSally Ann Lee\, Middlesex Health\n\nSharon Lewis\, AdviCoach\n\nHeather Milardo\, The Estuary\n\nBrittni Oxendine\, National Financial Network\n\nBrendan Redfield\, WollackLewitz \n\nSusan Taylor\, Susan Taylor Agency\, Farmers Insurance\n\nAllan Thompson\, CT Shoreline Home Watch
X-ALT-DESC;FMTTYPE=text/html:<h3 style="box-sizing: border-box\; font-family: Raleway\, sans-serif\; line-height: 1.1\; color: rgb(85\, 85\, 85)\; margin-top: 20px\; margin-bottom: 10px\; font-size: 24px\;"><strong style="box-sizing: border-box\;">Officers</strong></h3>\n\n<p style="box-sizing: border-box\; margin: 0px 0px 10px\; letter-spacing: 0.5px\; color: rgb(85\, 85\, 85)\; font-family: Raleway\, sans-serif\; font-size: 16px\;">President:&nbsp\;<a href="mailto:dcarswell@gsbyourbank.com" style="box-sizing: border-box\; background-color: transparent\; color: rgb(56\, 94\, 148)\; text-decoration-line: none\;">Dave Carswell</a>\,&nbsp\;<em style="box-sizing: border-box\;">Guilford Savings Bank</em><br style="box-sizing: border-box\;" />\n1st Vice President:&nbsp\;<a href="mailto:kevin@ctkennedy.com" style="box-sizing: border-box\; background-color: transparent\; color: rgb(56\, 94\, 148)\; text-decoration-line: none\;">Kevin Kennedy</a>\,&nbsp\;<em style="box-sizing: border-box\;">Kennedy Real Estate Solutions</em><br style="box-sizing: border-box\;" />\n2nd Vice President:&nbsp\;&nbsp\;<a href="mailto:tmarino@rockfallfoundation.org" style="box-sizing: border-box\; background-color: transparent\; color: rgb(56\, 94\, 148)\; text-decoration-line: none\;">Tony Marino</a>\,&nbsp\;<em style="box-sizing: border-box\;">The Rockfall Foundation</em><br style="box-sizing: border-box\;" />\nSecretary\,&nbsp\;<a href="mailto:kara@nourishandnoshct.com" style="box-sizing: border-box\; background-color: transparent\; color: rgb(56\, 94\, 148)\; text-decoration-line: none\;">Kara Pachniuk</a>\,&nbsp\;<em style="box-sizing: border-box\;">Nourish + Nosh Nutrition</em><br style="box-sizing: border-box\;" />\nTreasurer\,&nbsp\;<a href="mailto:dcarswell@gsbyourbank.com" style="box-sizing: border-box\; background-color: transparent\; color: rgb(56\, 94\, 148)\; text-decoration-line: none\;">D</a><a href="mailto:danking36@gmail.com" style="box-sizing: border-box\; background-color: transparent\; color: rgb(56\, 94\, 148)\; text-decoration-line: none\;">an King</a>\,&nbsp\;<i style="box-sizing: border-box\;">Lahan and King</i><br style="box-sizing: border-box\;" />\nPast President:&nbsp\;<a href="mailto:Robert.Bradley@raveis.com" style="box-sizing: border-box\; background-color: transparent\; color: rgb(56\, 94\, 148)\; text-decoration-line: none\;">Bob Bradley</a>\,&nbsp\;<em style="box-sizing: border-box\;">Wm. Raveis Mortgage</em></p>\n\n<h3 style="box-sizing: border-box\; font-family: Raleway\, sans-serif\; line-height: 1.1\; color: rgb(85\, 85\, 85)\; margin-top: 20px\; margin-bottom: 10px\; font-size: 24px\;"><strong style="box-sizing: border-box\;"><span style="box-sizing: border-box\; font-size: 18px\;">Directors&nbsp\;</span></strong></h3>\n\n<div style="box-sizing: border-box\; color: rgb(85\, 85\, 85)\; font-family: Raleway\, sans-serif\; font-size: 16px\;"><a href="mailto:chris.bird@saybrook.com" style="box-sizing: border-box\; background-color: transparent\; color: rgb(56\, 94\, 148)\; text-decoration-line: none\;">Chris Bird\,</a>&nbsp\;<em style="box-sizing: border-box\;">Saybrook Point Resort &amp\; Marina</em><br style="box-sizing: border-box\;" />\n<a href="mailto:brett.elliott@thekate.org" style="box-sizing: border-box\; background-color: transparent\; color: rgb(56\, 94\, 148)\; text-decoration-line: none\;">Brett Elliott</a>\,&nbsp\;<em style="box-sizing: border-box\;">Katharine Hepburn Cultural Arts Center&nbsp\; &nbsp\;</em><br style="box-sizing: border-box\;" />\n<a href="mailto:CJ.Jack@maverickmotorgroup.com" style="box-sizing: border-box\; background-color: transparent\; color: rgb(56\, 94\, 148)\; text-decoration-line: none\;">CJ Jack</a>\,&nbsp\;<em style="box-sizing: border-box\;">Shoreline Chrysler Dodge Jeep Ram &amp\; Shoreline Hyundai</em><br />\n<a href="mailto:chantal@tdesignsource.com" style="box-sizing: border-box\; background-color: transparent\; color: rgb(56\, 94\, 148)\; text-decoration-line: none\;">Chantal Lawrence</a>\,&nbsp\;<em style="box-sizing: border-box\;">Total Design Source</em><br style="box-sizing: border-box\;" />\n<a href="mailto:sallyann.lee@midhosp.org" style="box-sizing: border-box\; background-color: transparent\; color: rgb(56\, 94\, 148)\; text-decoration-line: none\;">Sally Ann Lee\,</a><em style="box-sizing: border-box\;">&nbsp\;Middlesex Health</em><br style="box-sizing: border-box\;" />\n<a href="mailto:sklewis@advicoach.com" style="box-sizing: border-box\; background-color: transparent\; color: rgb(56\, 94\, 148)\; text-decoration-line: none\;">Sharon Lewis</a>\,&nbsp\;<em style="box-sizing: border-box\;">AdviCoach</em><br style="box-sizing: border-box\;" />\n<a href="mailto:development@yourestuary.org" style="box-sizing: border-box\; background-color: transparent\; color: rgb(56\, 94\, 148)\; text-decoration-line: none\;">Heather Milardo</a>\,&nbsp\;<em style="box-sizing: border-box\;">The Estuary</em><br style="box-sizing: border-box\;" />\n<a href="mailto:brittni.oxendine@natfin.net" style="box-sizing: border-box\; background-color: transparent\; color: rgb(56\, 94\, 148)\; text-decoration-line: none\;">Brittni Oxendine</a><em style="box-sizing: border-box\;">\, National Financial Network</em><br style="box-sizing: border-box\;" />\n<a href="mailto:bredfield@wollacklewitz.cpa" style="box-sizing: border-box\; background-color: transparent\; color: rgb(56\, 94\, 148)\; text-decoration-line: none\;">Brendan Redfield</a><em style="box-sizing: border-box\;">\, WollackLewitz&nbsp\;</em><br style="box-sizing: border-box\;" />\n<a href="mailto:staylor2@farmersagent.com" style="box-sizing: border-box\; background-color: transparent\; color: rgb(56\, 94\, 148)\; text-decoration-line: none\;">Susan Taylor</a>\,&nbsp\;<em style="box-sizing: border-box\;">Susan Taylor Agency\, Farmers Insurance</em><br style="box-sizing: border-box\;" />\n<a href="mailto:allan@ctshorehomewatch.com" style="box-sizing: border-box\; background-color: transparent\; color: rgb(56\, 94\, 148)\; text-decoration-line: none\;">Allan Thompson</a>\,&nbsp\;<em style="box-sizing: border-box\;">CT Shoreline Home Watch</em></div>\n
LOCATION:Old Saybrook Chamber of Commerce One Main Street Old Saybrook\, CT
UID:e.1551.17348
SEQUENCE:3
DTSTAMP:20260425T023738Z
URL:https://business.goschamber.com/events/details/board-of-directors-meeting-9-27-23-17348
END:VEVENT

END:VCALENDAR
