BEGIN:VCALENDAR
VERSION:2.0
PRODID:-//ChamberMaster//Event Calendar 2.0//EN
METHOD:PUBLISH
X-PUBLISHED-TTL:P3D
REFRESH-INTERVAL:P3D
CALSCALE:GREGORIAN
BEGIN:VEVENT
DTSTART:20260404T170000Z
DTEND:20260404T183000Z
X-MICROSOFT-CDO-ALLDAYEVENT:FALSE
SUMMARY:ALL AGES: Shakepeare's Fools
DESCRIPTION:Join Rebecca Salomonsson as Anne Hathaway Shakespeare as she takes audience members through three of her husband's plays with humor\, wit\, and warmth. In this highly interactive\, one-woman show\, volunteer participants play characters from A Midsummer Night's Dream\, stage a condensed Romeo and Juliet\, and experience As You Like It with an all-male cast. An entertaining and educational performance for all ages! About an hour long\, It is highly interactive with multiple opportunities for audience participation.
X-ALT-DESC;FMTTYPE=text/html:<p><span style="background-color:rgb(255\, 255\, 255)\; font-family:georgia\; font-size:16px">Join&nbsp\;</span><span style="background-color:rgb(255\, 255\, 255)\; font-family:georgia\; font-size:16px">Rebecca Salomonsson as&nbsp\;</span><span style="background-color:rgb(255\, 255\, 255)\; font-family:georgia\; font-size:16px">Anne Hathaway Shakespeare as she takes audience members through three of her husband&rsquo\;s plays with humor\, wit\, and warmth. In this highly interactive\, one-woman show\, volunteer participants play characters from A Midsummer Night&rsquo\;s Dream\, stage a condensed Romeo and Juliet\, and experience As You Like It with an all-male cast. An entertaining and educational performance for all ages! About an hour long\, It is highly interactive with multiple opportunities for audience participation.</span></p>\n
LOCATION:Acton Public Library 60 Old Boston Post Road Old Saybrook\, CT 06475
UID:e.1551.30452
SEQUENCE:3
DTSTAMP:20260422T025353Z
URL:https://business.goschamber.com/events/details/all-ages-shakepeare-s-fools-30452
END:VEVENT

END:VCALENDAR
