BEGIN:VCALENDAR
VERSION:2.0
PRODID:-//ChamberMaster//Event Calendar 2.0//EN
METHOD:PUBLISH
X-PUBLISHED-TTL:P3D
REFRESH-INTERVAL:P3D
CALSCALE:GREGORIAN
BEGIN:VEVENT
DTSTART:20260422T220000Z
DTEND:20260422T233000Z
X-MICROSOFT-CDO-ALLDAYEVENT:FALSE
SUMMARY:ALL AGES: Family Paint Night
DESCRIPTION:Join YA librarian\, Brian Story\, for a fun evening of craft and conversation. Families are especially welcome. All paint supplies will be provided along with light refreshments.
X-ALT-DESC;FMTTYPE=text/html:<p><span style="color:rgba(0\,0\,0\,var(--O42jJQ\,1))">Join YA librarian\, Brian Story\, for a fun evening of craft and conversation. Families are especially welcome. All paint supplies will be provided along with light refreshments.</span></p>\n
LOCATION:Acton Public Library 60 Old Boston Post Road Old Saybrook\, CT 06475
UID:e.1551.30905
SEQUENCE:3
DTSTAMP:20260422T025808Z
URL:https://business.goschamber.com/events/details/all-ages-family-paint-night-04-22-2026-30905
END:VEVENT

END:VCALENDAR
