BEGIN:VCALENDAR
VERSION:2.0
PRODID:-//ChamberMaster//Event Calendar 2.0//EN
METHOD:PUBLISH
X-PUBLISHED-TTL:P3D
REFRESH-INTERVAL:P3D
CALSCALE:GREGORIAN
BEGIN:VEVENT
DTSTART:20260408T220000Z
DTEND:20260408T233000Z
X-MICROSOFT-CDO-ALLDAYEVENT:FALSE
SUMMARY:ALL AGES: Acoustic Artists Storyteller Series: Ryan Mitten
DESCRIPTION:Acoustic Artists Storyteller Series at Acton Library is back!  Stories and songs paired with pics and visuals. Each artist will bring something uniquely special to the experience.  This month\, Ryan Mitten: Seeger Family Songs.
X-ALT-DESC;FMTTYPE=text/html:<p><span style="color:black"><span style="font-family:times new roman\,serif"><span style="font-size:12.0pt">Acoustic Artists Storyteller Series at Acton Library is back!&nbsp\; Stories and songs paired with pics and visuals.&nbsp\;Each artist will bring something uniquely special to the experience.&nbsp\; This month\, Ryan Mitten: Seeger Family Songs.</span></span></span></p>\n
LOCATION:Acton Public Library 60 Old Boston Post Road Old Saybrook\, CT 06475
UID:e.1551.30403
SEQUENCE:3
DTSTAMP:20260422T025808Z
URL:https://business.goschamber.com/events/details/all-ages-acoustic-artists-storyteller-series-ryan-mitten-30403
END:VEVENT

END:VCALENDAR
