BEGIN:VCALENDAR
VERSION:2.0
PRODID:-//ChamberMaster//Event Calendar 2.0//EN
METHOD:PUBLISH
X-PUBLISHED-TTL:P3D
REFRESH-INTERVAL:P3D
CALSCALE:GREGORIAN
BEGIN:VEVENT
DTSTART:20260430T193000Z
DTEND:20260430T223000Z
X-MICROSOFT-CDO-ALLDAYEVENT:FALSE
SUMMARY:YA Tri-Town Fortnite Tournament @ Guilford
DESCRIPTION:OneUp Games returns to host another Fortnite tournament at Guilford Free Library.\n\nLimited team spots available.
X-ALT-DESC;FMTTYPE=text/html:<p><span style="font-family:times new roman\,serif"><span style="font-size:12.0pt">OneUp Games returns to host another Fortnite tournament at Guilford Free Library.</span></span><br />\n<span style="font-family:times new roman\,serif"><span style="font-size:12.0pt">Limited team spots available.</span></span></p>\n
LOCATION:Guilford Free Library 67 Park St. Guilford\, CT 06437
UID:e.1551.30911
SEQUENCE:3
DTSTAMP:20260422T064200Z
URL:http://business.goschamber.com/events/details/ya-tri-town-fortnite-tournament-guilford-30911
END:VEVENT

END:VCALENDAR
