BEGIN:VCALENDAR
VERSION:2.0
PRODID:-//ChamberMaster//Event Calendar 2.0//EN
METHOD:PUBLISH
X-PUBLISHED-TTL:P3D
REFRESH-INTERVAL:P3D
CALSCALE:GREGORIAN
BEGIN:VEVENT
DTSTART:20260407T221500Z
DTEND:20260407T233000Z
X-MICROSOFT-CDO-ALLDAYEVENT:FALSE
SUMMARY:Shoreline Civil War Roundtable
DESCRIPTION:This group meets the first Tuesday of the month.\n\nThis month Charles Fischer will present Battle of the Crater.
X-ALT-DESC;FMTTYPE=text/html:<p><span style="font-size:16px"><span style="font-family:tahoma">This group meets the first Tuesday of the month.</span></span></p>\n\n<p><span style="font-family:arial\,helvetica\,sans-serif"><span style="background-color:rgb(255\, 255\, 255)\; font-size:16px">This month Charles Fischer will present Battle of the Crater.</span></span></p>\n
LOCATION:Acton Public Library 60 Old Boston Post Road Old Saybrook\, CT 06475
UID:e.1551.30434
SEQUENCE:3
DTSTAMP:20260422T063634Z
URL:http://business.goschamber.com/events/details/shoreline-civil-war-roundtable-04-07-2026-30434
END:VEVENT

END:VCALENDAR
