BEGIN:VCALENDAR
VERSION:2.0
PRODID:-//ChamberMaster//Event Calendar 2.0//EN
METHOD:PUBLISH
X-PUBLISHED-TTL:P3D
REFRESH-INTERVAL:P3D
CALSCALE:GREGORIAN
BEGIN:VEVENT
DTSTART;VALUE=DATE:20260228
DTEND;VALUE=DATE:20270301
TRANSP:TRANSPARENT
X-MICROSOFT-CDO-ALLDAYEVENT:TRUE
SUMMARY:SATURDAY WING NIGHT!!!
DESCRIPTION:Dive into the ultimate flavor frenzy at The Stumble Inn's Saturday Wing Night. Unleash your taste buds with wings that'll have you craving more\, all for just $0.75 each. Grab your crew and make it a night to remember.     OH REMEMBER A GLASS OF BUD LIGHT FOR $3!!!!
X-ALT-DESC;FMTTYPE=text/html:<span style="background-color:rgb(210\, 236\, 219)\; color:rgb(10\, 1\, 1)\; font-family:effra\; font-size:16px">Dive into the ultimate flavor frenzy at The Stumble Inn&#39\;s Saturday Wing Night. Unleash your taste buds with wings that&#39\;ll have you craving more\, all for just $0.75 each. Grab your crew and make it a night to remember. &iexcl\;&iexcl\;&iexcl\;&iexcl\;OH REMEMBER A GLASS OF BUD LIGHT FOR $3!!!!</span>
LOCATION:
UID:e.1551.30869
SEQUENCE:3
DTSTAMP:20260420T114325Z
URL:http://business.goschamber.com/events/details/saturday-wing-night-30869
END:VEVENT

END:VCALENDAR
