BEGIN:VCALENDAR
VERSION:2.0
PRODID:-//ChamberMaster//Event Calendar 2.0//EN
METHOD:PUBLISH
X-PUBLISHED-TTL:P3D
REFRESH-INTERVAL:P3D
CALSCALE:GREGORIAN
BEGIN:VEVENT
DTSTART:20260409T220000Z
DTEND:20260409T233000Z
X-MICROSOFT-CDO-ALLDAYEVENT:FALSE
SUMMARY:Restorative Sound Meditation
DESCRIPTION:A Sound Bath Meditation is a full-body immersion in healing vibrations using crystal singing bowls\, chimes\, gongs\, Native American flute and other harmonic instruments. You simply settle in either lying down or seated\, get comfortable\, and allow yourself to receive. The session gently supports the nervous system\, eases emotional tension\, and helps restore a sense of calm\, balance\, and inner harmony.\n\nParticipants are invited to bring a yoga mat\, pillows\, and blankets for comfort. Chairs are always welcome\, and individuals may enjoy the sound journey either seated or lying down.  Eye masks will be available for optional use.\n\nThis program will be presented by Kristina Quinones.
X-ALT-DESC;FMTTYPE=text/html:<p>A Sound Bath Meditation is a full-body immersion in healing vibrations using crystal singing bowls\, chimes\, gongs\, Native American flute and other harmonic instruments.&nbsp\;You simply settle in either lying down or seated\, get comfortable\, and allow yourself to receive. The session gently supports the nervous system\, eases emotional tension\, and helps restore a sense of calm\, balance\, and inner harmony.</p>\n\n<p>Participants are invited to bring a yoga mat\, pillows\, and blankets for comfort. Chairs are always welcome\, and individuals may enjoy the sound journey either seated or lying down.&nbsp\; Eye masks will be available for optional use.</p>\n\n<p>This program will be presented by Kristina Quinones.</p>\n
LOCATION:Acton Public Library 60 Old Boston Post Road Old Saybrook\, CT 06475
UID:e.1551.30451
SEQUENCE:3
DTSTAMP:20260422T063217Z
URL:http://business.goschamber.com/events/details/restorative-sound-meditation-30451
END:VEVENT

END:VCALENDAR
