BEGIN:VCALENDAR
VERSION:2.0
PRODID:-//ChamberMaster//Event Calendar 2.0//EN
METHOD:PUBLISH
X-PUBLISHED-TTL:P3D
REFRESH-INTERVAL:P3D
CALSCALE:GREGORIAN
BEGIN:VEVENT
DTSTART:20260423T143000Z
DTEND:20260423T153000Z
X-MICROSOFT-CDO-ALLDAYEVENT:FALSE
SUMMARY:Outdoor Walking Group
DESCRIPTION:Join Cindy for a 45-minute outdoor walk around the neighborhood.
X-ALT-DESC;FMTTYPE=text/html:<p><span style="background-color:rgb(255\, 255\, 255)\; font-family:georgia\; font-size:16px">Join Cindy for a 45-minute outdoor walk around the neighborhood.</span></p>\n
LOCATION:Acton Public Library 60 Old Boston Post Road Old Saybrook\, CT 06475
UID:e.1551.30417
SEQUENCE:3
DTSTAMP:20260422T063634Z
URL:http://business.goschamber.com/events/details/outdoor-walking-group-04-23-2026-30417
END:VEVENT

END:VCALENDAR
