BEGIN:VCALENDAR
VERSION:2.0
PRODID:-//ChamberMaster//Event Calendar 2.0//EN
METHOD:PUBLISH
X-PUBLISHED-TTL:P3D
REFRESH-INTERVAL:P3D
CALSCALE:GREGORIAN
BEGIN:VEVENT
DTSTART:20260430T213000Z
DTEND:20260501T000000Z
X-MICROSOFT-CDO-ALLDAYEVENT:FALSE
SUMMARY:Middlesex United Way's 2026 Power of the Purse Fundraiser
DESCRIPTION:Join our WOMEN UNITED affinity group for a night of fun with friends and raise money for the group's work in the community. It's an evening to support women lifting up other women.
X-ALT-DESC;FMTTYPE=text/html:Join our WOMEN UNITED affinity group for a night of fun with friends and raise money for the group&#39\;s work in the community. It&#39\;s an evening to support women lifting up other women.
LOCATION:Middletown Elks Lodge #771 44 Maynard Street Middletown\, CT 06457
UID:e.1551.29802
SEQUENCE:3
DTSTAMP:20260422T064018Z
URL:http://business.goschamber.com/events/details/middlesex-united-way-s-2026-power-of-the-purse-fundraiser-29802
END:VEVENT

END:VCALENDAR
