BEGIN:VCALENDAR
VERSION:2.0
PRODID:-//ChamberMaster//Event Calendar 2.0//EN
METHOD:PUBLISH
X-PUBLISHED-TTL:P3D
REFRESH-INTERVAL:P3D
CALSCALE:GREGORIAN
BEGIN:VEVENT
DTSTART:20260418T190000Z
DTEND:20260418T220000Z
X-MICROSOFT-CDO-ALLDAYEVENT:FALSE
SUMMARY:LIVE Music with Sal Grillo
DESCRIPTION:LIVE music with Sal Grillo and GREAT beer!
X-ALT-DESC;FMTTYPE=text/html:LIVE music with Sal Grillo and GREAT beer!
LOCATION:Myrcene Ale Co. 39 Ragged Rock Road\, Old Saybrook\, CT 06475
UID:e.1551.30865
SEQUENCE:3
DTSTAMP:20260422T063547Z
URL:http://business.goschamber.com/events/details/live-music-with-sal-grillo-30865
END:VEVENT

END:VCALENDAR
