BEGIN:VCALENDAR
VERSION:2.0
PRODID:-//ChamberMaster//Event Calendar 2.0//EN
METHOD:PUBLISH
X-PUBLISHED-TTL:P3D
REFRESH-INTERVAL:P3D
CALSCALE:GREGORIAN
BEGIN:VEVENT
DTSTART:20260421T220000Z
DTEND:20260421T233000Z
X-MICROSOFT-CDO-ALLDAYEVENT:FALSE
SUMMARY:Cross Stitch Bookmark
DESCRIPTION:Create a cross stitch bookmark.  Materials provided. \n\nAmerica 250 Event
X-ALT-DESC;FMTTYPE=text/html:<p><span style="background-color:rgb(255\, 255\, 255)\; font-family:georgia\; font-size:16px">Create a cross stitch bookmark.&nbsp\; Materials provided.&nbsp\;</span></p>\n\n<p><strong><span style="color:#FF0000">America 250 Event</span></strong></p>\n
LOCATION:Acton Public Library 60 Old Boston Post Road Old Saybrook\, CT 06475
UID:e.1551.30411
SEQUENCE:3
DTSTAMP:20260422T063053Z
URL:http://business.goschamber.com/events/details/cross-stitch-bookmark-30411
END:VEVENT

END:VCALENDAR
