BEGIN:VCALENDAR
VERSION:2.0
PRODID:-//ChamberMaster//Event Calendar 2.0//EN
METHOD:PUBLISH
X-PUBLISHED-TTL:P3D
REFRESH-INTERVAL:P3D
CALSCALE:GREGORIAN
BEGIN:VEVENT
DTSTART:20260428T220000Z
DTEND:20260428T233000Z
X-MICROSOFT-CDO-ALLDAYEVENT:FALSE
SUMMARY:Cookbook Club
DESCRIPTION:Check out a copy of the chosen cookbook for the month\, make a recipe within the cookbook or inspired by the cookbook & bring it to the meeting for members to sample. This is required to attend.\n\nThis month's cookbook is Smithsonian American Table: The Foods\, People\, and Innovations That Feed Us by Lisa Kingsley in collaboration with Smithsonian Institution.\n\nIn collaboration with the Smithsonian Institution\, a sweeping history of food and culture that summons everyone to the table for a fresh look at the people\, ingredients\, events\, and movements that have shaped how and what we eat in the United States This exploration of the American table presents a fresh look at what and how we've fed ourselves\, for sustenance and for pleasure\, through the lens of location\, immigration\, ingenuity\, innovation\, and culture.  Cook your way through American history with over 40 iconic and notable recipes offered throughout the book. With chapters spanning coast to coast and stretching over centuries\, this enlightening enriching\, and entertaining collection uncovers the many histories of American food.
X-ALT-DESC;FMTTYPE=text/html:<p>Check out a copy of the chosen cookbook for the month\, make a recipe within the cookbook or inspired by the cookbook &amp\; bring it to the meeting for members to sample. This is required to attend.</p>\n\n<p>This month&#39\;s cookbook is&nbsp\;<em>Smithsonian American Table: The Foods\, People\, and Innovations That Feed Us</em>&nbsp\;by Lisa Kingsley in collaboration with Smithsonian Institution.</p>\n\n<p>In collaboration with the Smithsonian Institution\, a sweeping history of food and culture that summons everyone to the table for a fresh look at the people\, ingredients\, events\, and movements that have shaped how and what we eat in the United States This exploration of the American table presents a fresh look at what and how we&#39\;ve fed ourselves\, for sustenance and for pleasure\, through the lens of location\, immigration\, ingenuity\, innovation\, and culture.&nbsp\; Cook your way through American history with over 40 iconic and notable recipes offered throughout the book. With chapters spanning coast to coast and stretching over centuries\, this enlightening enriching\, and entertaining collection uncovers the many histories of American food.</p>\n
LOCATION:Acton Public Library 60 Old Boston Post Road Old Saybrook\, CT 06475
UID:e.1551.30407
SEQUENCE:3
DTSTAMP:20260422T063812Z
URL:http://business.goschamber.com/events/details/cookbook-club-04-28-2026-30407
END:VEVENT

END:VCALENDAR
