BEGIN:VCALENDAR
VERSION:2.0
PRODID:-//ChamberMaster//Event Calendar 2.0//EN
METHOD:PUBLISH
X-PUBLISHED-TTL:P3D
REFRESH-INTERVAL:P3D
CALSCALE:GREGORIAN
BEGIN:VEVENT
DTSTART:20260414T220000Z
DTEND:20260414T233000Z
X-MICROSOFT-CDO-ALLDAYEVENT:FALSE
SUMMARY:Colors of the Past
DESCRIPTION:Colors of the Past: Historic Plant Dyes from Colonial  Post Revolutionary Era Herb Gardens will be presented by Dee Rapposelli\,  master gardener and local textile artist & Rebecca Esmi.  \n\nLearn how Colonialists and New Englanders living in the post-Revolutionary War era dyed textiles and how you can too.  You will learn what plants you can grow and harvest for natural textile dying and easy and safe ways to make natural dyes at home. The program will include a demonstration of dying handspun wool and linen yarn with madder root and weld.  While the fiber is simmering in the dye\, the history of plant dye use and cultivation is discussed followed by a how-to in more detail\, and then an overview of plants used in colonial times and suggestions on creating one's own dye garden.  Then\, a cooked yarn dye reveal and a Q&A.  Dyed yarn samples and necessary tools will be on display.\n\nSponsored by the Friends of Acton Public Library.\n\nAmerica 250 Event
X-ALT-DESC;FMTTYPE=text/html:<p>Colors of the Past: Historic Plant Dyes from Colonial&nbsp\; Post Revolutionary Era Herb Gardens will be presented by Dee Rapposelli\,&nbsp\; master gardener and local textile artist &amp\; Rebecca Esmi.&nbsp\;&nbsp\;</p>\n\n<p>Learn how Colonialists and New Englanders living in the post-Revolutionary War era dyed textiles and how you can too.&nbsp\; You will learn what plants you can grow and harvest for natural textile dying and easy and safe ways to make natural dyes at home. The program will include a demonstration of dying handspun wool and linen yarn with madder root and weld.&nbsp\; While the fiber is simmering in the dye\, the history of plant dye use and cultivation is discussed followed by a how-to in more detail\, and then an overview of plants used in colonial times and suggestions on creating one&rsquo\;s own dye garden. &nbsp\;Then\, a cooked yarn dye reveal and a Q&amp\;A.&nbsp\; Dyed yarn samples and necessary tools will be on display.</p>\n\n<p><em>Sponsored by the Friends of Acton Public Library.</em></p>\n\n<p><strong><span style="color:#FF0000">America 250 Event</span></strong></p>\n
LOCATION:Acton Public Library 60 Old Boston Post Road Old Saybrook\, CT 06475
UID:e.1551.30448
SEQUENCE:3
DTSTAMP:20260422T063737Z
URL:http://business.goschamber.com/events/details/colors-of-the-past-30448
END:VEVENT

END:VCALENDAR
