BEGIN:VCALENDAR
VERSION:2.0
PRODID:-//ChamberMaster//Event Calendar 2.0//EN
METHOD:PUBLISH
X-PUBLISHED-TTL:P3D
REFRESH-INTERVAL:P3D
CALSCALE:GREGORIAN
BEGIN:VEVENT
DTSTART:20260408T220000Z
DTEND:20260408T230000Z
X-MICROSOFT-CDO-ALLDAYEVENT:FALSE
SUMMARY:Books on Tap Book Club
DESCRIPTION:This group meets the 2nd Wednesday of the month at Myrcene Ale.\n\nThis month's book is Culpability: A Novel by Bruce Holsinger.
X-ALT-DESC;FMTTYPE=text/html:<p><span style="font-size:16px"><span style="font-family:verdana">This group meets the 2nd Wednesday of the month at Myrcene Ale.</span></span></p>\n\n<p><span style="font-size:18px"><span style="font-family:arial\,helvetica\,sans-serif"><span style="background-color:rgb(255\, 255\, 255)">This month&#39\;s book is&nbsp\;</span><span style="background-color:rgb(255\, 255\, 255)"><em>Culpability: A Novel</em></span><span style="background-color:rgb(255\, 255\, 255)">&nbsp\;by Bruce Holsinger.</span></span></span></p>\n
LOCATION:Acton Public Library 60 Old Boston Post Road Old Saybrook\, CT 06475
UID:e.1551.30906
SEQUENCE:3
DTSTAMP:20260422T063859Z
URL:http://business.goschamber.com/events/details/books-on-tap-book-club-30906
END:VEVENT

END:VCALENDAR
