BEGIN:VCALENDAR
VERSION:2.0
PRODID:-//ChamberMaster//Event Calendar 2.0//EN
METHOD:PUBLISH
X-PUBLISHED-TTL:P3D
REFRESH-INTERVAL:P3D
CALSCALE:GREGORIAN
BEGIN:VEVENT
DTSTART;VALUE=DATE:20261003
DTEND;VALUE=DATE:20261005
TRANSP:TRANSPARENT
X-MICROSOFT-CDO-ALLDAYEVENT:TRUE
SUMMARY:Arts & Crafts Festival 2026
DESCRIPTION:62nd Annual Old Saybrook Chamber Arts & Crafts Festival \n\n\n\nSaturday October 3\, 2026  10am-5pm\n\nSunday October 4\, 2026  10am - 4pm\n\n\n\n145 Artists and Crafters\n\nOld Saybrook Town Green\n\n300 Main Street\, Old Saybrook\, CT  06475\n\n\n\nArtists and Crafters are now welcome to apply.\n\n(click the Register button on the right)\n\n\n	Application Fee:  $25\n	Booth Fee:  $275\n\nThis is juried event.\n\nAfter submitting the Application Fee\, you will be asked to submit photos to the jury.\n\nOnce the jury reviews your work\, you will be notified of your status in the 2026 Festival.\n\n\n\nApplication Deadline:  May 31\, 2026\n\n\n\nThank you!
X-ALT-DESC;FMTTYPE=text/html:<strong>62nd Annual Old Saybrook Chamber Arts &amp\; Crafts Festival&nbsp\;</strong><br />\n<br />\nSaturday October 3\, 2026&nbsp\; 10am-5pm<br />\nSunday October 4\, 2026&nbsp\; 10am - 4pm<br />\n<br />\n145 Artists and Crafters<br />\nOld Saybrook Town Green<br />\n300 Main Street\, Old Saybrook\, CT&nbsp\; 06475<br />\n<br />\n<em><strong>Artists and Crafters are now welcome to apply.</strong><br />\n(click the Register button on the right)</em>\n\n<ul>\n	<li>Application Fee:&nbsp\; $25</li>\n	<li>Booth Fee:&nbsp\; $275</li>\n</ul>\nThis is juried event.<br />\nAfter submitting the Application Fee\, you will be asked to submit photos to the jury.<br />\nOnce the jury reviews your work\, you will be notified of your status in the 2026 Festival.<br />\n<br />\n<span style="background-color:#FFFF00\;">Application Deadline:&nbsp\; May 31\, 2026</span><br />\n<br />\nThank you!&nbsp\;&nbsp\;
LOCATION:
UID:e.1551.28250
SEQUENCE:3
DTSTAMP:20260421T191925Z
URL:http://business.goschamber.com/events/details/arts-crafts-festival-2026-28250
END:VEVENT

END:VCALENDAR
