BEGIN:VCALENDAR
VERSION:2.0
PRODID:-//ChamberMaster//Event Calendar 2.0//EN
METHOD:PUBLISH
X-PUBLISHED-TTL:P3D
REFRESH-INTERVAL:P3D
CALSCALE:GREGORIAN
BEGIN:VEVENT
DTSTART:20260401T220000Z
DTEND:20260401T233000Z
X-MICROSOFT-CDO-ALLDAYEVENT:FALSE
SUMMARY:APL Poetry Writing Group
DESCRIPTION:Writing in community creates community. Gather together with Old Saybrook's new poet laureate Sandra Yannone to write together and share your new creations monthly.  All welcome regardless of writing experience. Bring your notebook or laptop or use our supplies.
X-ALT-DESC;FMTTYPE=text/html:<p><span style="background-color:rgb(255\, 255\, 255)\; font-family:georgia\; font-size:16px">Writing in community creates community. Gather together with Old Saybrook&rsquo\;s new poet laureate Sandra Yannone to write together and share your new creations monthly.&nbsp\; All welcome regardless of writing experience. Bring your notebook or laptop or use our supplies.</span></p>\n
LOCATION:Acton Public Library 60 Old Boston Post Road Old Saybrook\, CT 06475
UID:e.1551.30406
SEQUENCE:3
DTSTAMP:20260422T063543Z
URL:http://business.goschamber.com/events/details/apl-poetry-writing-group-04-01-2026-30406
END:VEVENT

END:VCALENDAR
